Package: BUMHMM Version: 1.31.0 Command: rm -rf BUMHMM.buildbin-libdir && mkdir BUMHMM.buildbin-libdir && /Users/biocbuild/BBS/utils/build-universal.sh BUMHMM_1.31.0.tar.gz /Library/Frameworks/R.framework/Resources/bin/R BUMHMM.buildbin-libdir StartedAt: 2025-02-10 00:44:50 -0500 (Mon, 10 Feb 2025) EndedAt: 2025-02-10 00:45:29 -0500 (Mon, 10 Feb 2025) EllapsedTime: 39.0 seconds RetCode: 0 Status: OK PackageFile: BUMHMM_1.31.0.tgz PackageFileSize: 751.5 KiB