Package: BUMHMM Version: 1.31.0 Command: /home/biocbuild/bbs-3.21-bioc/R/bin/R CMD build --keep-empty-dirs --no-resave-data BUMHMM StartedAt: 2025-02-09 16:29:15 -0500 (Sun, 09 Feb 2025) EndedAt: 2025-02-09 16:29:55 -0500 (Sun, 09 Feb 2025) EllapsedTime: 40.0 seconds RetCode: 0 Status: OK PackageFile: BUMHMM_1.31.0.tar.gz PackageFileSize: 712.7 KiB