Package: BUMHMM Version: 1.31.0 Command: rm -rf BUMHMM.buildbin-libdir && mkdir BUMHMM.buildbin-libdir && E:\biocbuild\bbs-3.21-bioc\R\bin\R.exe CMD INSTALL --build --library=BUMHMM.buildbin-libdir BUMHMM_1.31.0.tar.gz StartedAt: 2025-02-10 07:21:34 -0500 (Mon, 10 Feb 2025) EndedAt: 2025-02-10 07:22:12 -0500 (Mon, 10 Feb 2025) EllapsedTime: 38.3 seconds RetCode: 0 Status: OK PackageFile: BUMHMM_1.31.0.zip PackageFileSize: 746.7 KiB