Package: BUMHMM Version: 1.31.0 Command: chmod a+r BUMHMM -R && E:\biocbuild\bbs-3.21-bioc\R\bin\R.exe CMD build --keep-empty-dirs --no-resave-data BUMHMM StartedAt: 2025-02-09 17:36:49 -0500 (Sun, 09 Feb 2025) EndedAt: 2025-02-09 17:37:48 -0500 (Sun, 09 Feb 2025) EllapsedTime: 58.3 seconds RetCode: 0 Status: OK PackageFile: BUMHMM_1.31.0.tar.gz PackageFileSize: 705.3 KiB