Package: BUScorrect Version: 1.25.0 Command: rm -rf BUScorrect.buildbin-libdir && mkdir BUScorrect.buildbin-libdir && /Users/biocbuild/BBS/utils/build-universal.sh BUScorrect_1.25.0.tar.gz /Library/Frameworks/R.framework/Resources/bin/R BUScorrect.buildbin-libdir StartedAt: 2025-02-10 00:44:52 -0500 (Mon, 10 Feb 2025) EndedAt: 2025-02-10 00:45:27 -0500 (Mon, 10 Feb 2025) EllapsedTime: 34.4 seconds RetCode: 0 Status: OK PackageFile: BUScorrect_1.25.0.tgz PackageFileSize: 3.601 MiB