Package: BUScorrect Version: 1.25.0 Command: rm -rf BUScorrect.buildbin-libdir && mkdir BUScorrect.buildbin-libdir && E:\biocbuild\bbs-3.21-bioc\R\bin\R.exe CMD INSTALL --build --library=BUScorrect.buildbin-libdir BUScorrect_1.25.0.tar.gz StartedAt: 2025-02-13 07:32:51 -0500 (Thu, 13 Feb 2025) EndedAt: 2025-02-13 07:33:27 -0500 (Thu, 13 Feb 2025) EllapsedTime: 36.0 seconds RetCode: 0 Status: OK PackageFile: BUScorrect_1.25.0.zip PackageFileSize: 3.61 MiB