Package: BUScorrect Version: 1.25.0 Command: chmod a+r BUScorrect -R && E:\biocbuild\bbs-3.21-bioc\R\bin\R.exe CMD build --keep-empty-dirs --no-resave-data BUScorrect StartedAt: 2025-02-09 17:37:07 -0500 (Sun, 09 Feb 2025) EndedAt: 2025-02-09 17:39:50 -0500 (Sun, 09 Feb 2025) EllapsedTime: 162.9 seconds RetCode: 0 Status: OK PackageFile: BUScorrect_1.25.0.tar.gz PackageFileSize: 3.52 MiB