Package: BUSpaRse Version: 1.21.0 Command: rm -rf BUSpaRse.buildbin-libdir && mkdir BUSpaRse.buildbin-libdir && /Users/biocbuild/BBS/utils/build-universal.sh BUSpaRse_1.21.0.tar.gz /Library/Frameworks/R.framework/Resources/bin/R BUSpaRse.buildbin-libdir StartedAt: 2025-02-06 00:21:49 -0500 (Thu, 06 Feb 2025) EndedAt: 2025-02-06 00:23:07 -0500 (Thu, 06 Feb 2025) EllapsedTime: 78.4 seconds RetCode: 0 Status: OK PackageFile: BUSpaRse_1.21.0.tgz PackageFileSize: 846 KiB