Package: BUSpaRse Version: 1.21.0 Command: rm -rf BUSpaRse.buildbin-libdir && mkdir BUSpaRse.buildbin-libdir && E:\biocbuild\bbs-3.21-bioc\R\bin\R.exe CMD INSTALL --build --library=BUSpaRse.buildbin-libdir BUSpaRse_1.21.0.tar.gz StartedAt: 2025-02-10 07:21:47 -0500 (Mon, 10 Feb 2025) EndedAt: 2025-02-10 07:24:13 -0500 (Mon, 10 Feb 2025) EllapsedTime: 146.2 seconds RetCode: 0 Status: OK PackageFile: BUSpaRse_1.21.0.zip PackageFileSize: 1.122 MiB