Package: BUSpaRse Version: 1.21.0 Command: chmod a+r BUSpaRse -R && E:\biocbuild\bbs-3.21-bioc\R\bin\R.exe CMD build --keep-empty-dirs --no-resave-data BUSpaRse StartedAt: 2025-02-09 17:37:12 -0500 (Sun, 09 Feb 2025) EndedAt: 2025-02-09 17:44:00 -0500 (Sun, 09 Feb 2025) EllapsedTime: 408.0 seconds RetCode: 0 Status: OK PackageFile: BUSpaRse_1.21.0.tar.gz PackageFileSize: 556.2 KiB