Package: BUSpaRse Version: 1.21.0 Command: E:\biocbuild\bbs-3.21-bioc\R\bin\R.exe CMD check --no-multiarch --install=check:BUSpaRse.install-out.txt --library=E:\biocbuild\bbs-3.21-bioc\R\library --no-vignettes --timings BUSpaRse_1.21.0.tar.gz StartedAt: 2025-02-09 23:17:56 -0500 (Sun, 09 Feb 2025) EndedAt: 2025-02-09 23:30:27 -0500 (Sun, 09 Feb 2025) EllapsedTime: 750.6 seconds RetCode: 0 Status: OK CheckDir: BUSpaRse.Rcheck Warnings: 0