Package: BUSpaRse Version: 1.21.0 Command: E:\biocbuild\bbs-3.21-bioc\R\bin\R.exe CMD INSTALL BUSpaRse StartedAt: 2025-02-09 16:37:01 -0500 (Sun, 09 Feb 2025) EndedAt: 2025-02-09 16:39:54 -0500 (Sun, 09 Feb 2025) EllapsedTime: 173.3 seconds RetCode: 0 Status: OK