Package: BaalChIP Version: 1.33.0 Command: rm -rf BaalChIP.buildbin-libdir && mkdir BaalChIP.buildbin-libdir && /Users/biocbuild/BBS/utils/build-universal.sh BaalChIP_1.33.0.tar.gz /Library/Frameworks/R.framework/Resources/bin/R BaalChIP.buildbin-libdir StartedAt: 2025-02-09 22:06:17 -0500 (Sun, 09 Feb 2025) EndedAt: 2025-02-09 22:06:53 -0500 (Sun, 09 Feb 2025) EllapsedTime: 35.7 seconds RetCode: 0 Status: OK PackageFile: BaalChIP_1.33.0.tgz PackageFileSize: 100.2 MiB