Package: BaalChIP Version: 1.33.0 Command: /Library/Frameworks/R.framework/Resources/bin/R CMD build --keep-empty-dirs --no-resave-data BaalChIP StartedAt: 2025-02-09 15:35:18 -0500 (Sun, 09 Feb 2025) EndedAt: 2025-02-09 15:36:08 -0500 (Sun, 09 Feb 2025) EllapsedTime: 50.5 seconds RetCode: 0 Status: OK PackageFile: BaalChIP_1.33.0.tar.gz PackageFileSize: 45.32 MiB