Package: BaalChIP Version: 1.33.0 Command: E:\biocbuild\bbs-3.21-bioc\R\bin\R.exe CMD check --no-multiarch --install=check:BaalChIP.install-out.txt --library=E:\biocbuild\bbs-3.21-bioc\R\library --no-vignettes --timings BaalChIP_1.33.0.tar.gz StartedAt: 2025-02-12 22:51:59 -0500 (Wed, 12 Feb 2025) EndedAt: 2025-02-12 23:02:58 -0500 (Wed, 12 Feb 2025) EllapsedTime: 659.1 seconds RetCode: 0 Status: WARNINGS CheckDir: BaalChIP.Rcheck Warnings: 1