Package: BadRegionFinder Version: 1.35.3 Maintainer: Sarah Sandmann MaintainerEmail: sarah.sandmann at uni-muenster.de git_url: https://git.bioconductor.org/packages/BadRegionFinder git_branch: devel git_last_commit: 4fac2c3 git_last_commit_date: 2025-01-29 17:39:07 -0500 (Wed, 29 Jan 2025)