Package: BadRegionFinder Version: 1.35.3 Command: /Library/Frameworks/R.framework/Resources/bin/R CMD INSTALL BadRegionFinder StartedAt: 2025-02-12 15:11:35 -0500 (Wed, 12 Feb 2025) EndedAt: 2025-02-12 15:11:52 -0500 (Wed, 12 Feb 2025) EllapsedTime: 17.1 seconds RetCode: 0 Status: OK