Package: BadRegionFinder Version: 1.35.3 Command: rm -rf BadRegionFinder.buildbin-libdir && mkdir BadRegionFinder.buildbin-libdir && /Users/biocbuild/BBS/utils/build-universal.sh BadRegionFinder_1.35.3.tar.gz /Library/Frameworks/R.framework/Resources/bin/R BadRegionFinder.buildbin-libdir StartedAt: 2025-02-10 00:42:23 -0500 (Mon, 10 Feb 2025) EndedAt: 2025-02-10 00:43:22 -0500 (Mon, 10 Feb 2025) EllapsedTime: 58.8 seconds RetCode: 0 Status: OK PackageFile: BadRegionFinder_1.35.3.tgz PackageFileSize: 928.9 KiB