Package: BadRegionFinder Version: 1.35.3 Command: /Library/Frameworks/R.framework/Resources/bin/R CMD build --keep-empty-dirs --no-resave-data BadRegionFinder StartedAt: 2025-02-09 15:56:20 -0500 (Sun, 09 Feb 2025) EndedAt: 2025-02-09 15:57:59 -0500 (Sun, 09 Feb 2025) EllapsedTime: 98.2 seconds RetCode: 0 Status: OK PackageFile: BadRegionFinder_1.35.3.tar.gz PackageFileSize: 833 KiB