Package: BadRegionFinder Version: 1.35.3 Command: /Library/Frameworks/R.framework/Resources/bin/R CMD check --install=check:BadRegionFinder.install-out.txt --library=/Library/Frameworks/R.framework/Resources/library --no-vignettes --timings BadRegionFinder_1.35.3.tar.gz StartedAt: 2025-02-09 19:07:55 -0500 (Sun, 09 Feb 2025) EndedAt: 2025-02-09 19:13:09 -0500 (Sun, 09 Feb 2025) EllapsedTime: 314.0 seconds RetCode: 0 Status: OK CheckDir: BadRegionFinder.Rcheck Warnings: 0