Package: BadRegionFinder Version: 1.35.3 Command: /Library/Frameworks/R.framework/Resources/bin/R CMD INSTALL BadRegionFinder StartedAt: 2025-02-09 15:21:07 -0500 (Sun, 09 Feb 2025) EndedAt: 2025-02-09 15:22:03 -0500 (Sun, 09 Feb 2025) EllapsedTime: 55.7 seconds RetCode: 0 Status: OK