Package: BadRegionFinder Version: 1.35.3 Command: E:\biocbuild\bbs-3.21-bioc\R\bin\R.exe CMD check --no-multiarch --install=check:BadRegionFinder.install-out.txt --library=E:\biocbuild\bbs-3.21-bioc\R\library --no-vignettes --timings BadRegionFinder_1.35.3.tar.gz StartedAt: 2025-02-09 22:44:26 -0500 (Sun, 09 Feb 2025) EndedAt: 2025-02-09 22:49:47 -0500 (Sun, 09 Feb 2025) EllapsedTime: 320.2 seconds RetCode: 0 Status: OK CheckDir: BadRegionFinder.Rcheck Warnings: 0