Package: BaseSpaceR Version: 1.51.0 Command: /Library/Frameworks/R.framework/Resources/bin/R CMD build --keep-empty-dirs --no-resave-data BaseSpaceR StartedAt: 2025-02-09 15:36:08 -0500 (Sun, 09 Feb 2025) EndedAt: 2025-02-09 15:36:18 -0500 (Sun, 09 Feb 2025) EllapsedTime: 9.1 seconds RetCode: 0 Status: OK PackageFile: BaseSpaceR_1.51.0.tar.gz PackageFileSize: 580.9 KiB