Package: BaseSpaceR Version: 1.51.0 Command: /home/biocbuild/R/R/bin/R CMD INSTALL BaseSpaceR StartedAt: 2025-01-29 19:32:36 -0000 (Wed, 29 Jan 2025) EndedAt: 2025-01-29 19:32:52 -0000 (Wed, 29 Jan 2025) EllapsedTime: 16.5 seconds RetCode: 0 Status: OK