Package: BaseSpaceR Version: 1.51.0 Command: /home/biocbuild/bbs-3.21-bioc/R/bin/R CMD check --install=check:BaseSpaceR.install-out.txt --library=/home/biocbuild/bbs-3.21-bioc/R/site-library --timings BaseSpaceR_1.51.0.tar.gz StartedAt: 2025-02-04 20:07:36 -0500 (Tue, 04 Feb 2025) EndedAt: 2025-02-04 20:08:19 -0500 (Tue, 04 Feb 2025) EllapsedTime: 43.0 seconds RetCode: 0 Status: WARNINGS CheckDir: BaseSpaceR.Rcheck Warnings: 1