Package: BaseSpaceR Version: 1.51.0 Command: /home/biocbuild/bbs-3.21-bioc/R/bin/R CMD INSTALL BaseSpaceR StartedAt: 2025-02-04 15:02:48 -0500 (Tue, 04 Feb 2025) EndedAt: 2025-02-04 15:03:02 -0500 (Tue, 04 Feb 2025) EllapsedTime: 14.7 seconds RetCode: 0 Status: OK