Package: Basic4Cseq Version: 1.43.0 Command: rm -rf Basic4Cseq.buildbin-libdir && mkdir Basic4Cseq.buildbin-libdir && /Users/biocbuild/BBS/utils/build-universal.sh Basic4Cseq_1.43.0.tar.gz /Library/Frameworks/R.framework/Resources/bin/R Basic4Cseq.buildbin-libdir StartedAt: 2025-02-09 22:06:33 -0500 (Sun, 09 Feb 2025) EndedAt: 2025-02-09 22:06:50 -0500 (Sun, 09 Feb 2025) EllapsedTime: 16.3 seconds RetCode: 0 Status: OK PackageFile: Basic4Cseq_1.43.0.tgz PackageFileSize: 779.3 KiB