Package: Basic4Cseq Version: 1.43.0 Command: /Library/Frameworks/R.framework/Resources/bin/R CMD build --keep-empty-dirs --no-resave-data Basic4Cseq StartedAt: 2025-02-12 15:36:21 -0500 (Wed, 12 Feb 2025) EndedAt: 2025-02-12 15:36:43 -0500 (Wed, 12 Feb 2025) EllapsedTime: 22.2 seconds RetCode: 0 Status: OK PackageFile: Basic4Cseq_1.43.0.tar.gz PackageFileSize: 384.5 KiB