Package: Basic4Cseq Version: 1.43.0 Command: /home/biocbuild/R/R/bin/R CMD build --keep-empty-dirs --no-resave-data Basic4Cseq StartedAt: 2025-01-29 20:59:41 -0000 (Wed, 29 Jan 2025) EndedAt: 2025-01-29 21:00:54 -0000 (Wed, 29 Jan 2025) EllapsedTime: 73.0 seconds RetCode: 0 Status: OK PackageFile: Basic4Cseq_1.43.0.tar.gz PackageFileSize: 381.6 KiB