Package: Basic4Cseq Version: 1.43.0 Command: /home/biocbuild/R/R/bin/R CMD check --install=check:Basic4Cseq.install-out.txt --library=/home/biocbuild/R/R/site-library --no-vignettes --timings Basic4Cseq_1.43.0.tar.gz StartedAt: 2025-01-28 03:41:40 -0000 (Tue, 28 Jan 2025) EndedAt: 2025-01-28 03:46:35 -0000 (Tue, 28 Jan 2025) EllapsedTime: 295.3 seconds RetCode: 0 Status: OK CheckDir: Basic4Cseq.Rcheck Warnings: 0