Package: Basic4Cseq Version: 1.43.0 Command: /home/biocbuild/R/R/bin/R CMD INSTALL Basic4Cseq StartedAt: 2025-01-29 19:55:52 -0000 (Wed, 29 Jan 2025) EndedAt: 2025-01-29 19:56:40 -0000 (Wed, 29 Jan 2025) EllapsedTime: 47.8 seconds RetCode: 0 Status: OK