Package: Basic4Cseq Version: 1.43.0 Command: rm -rf Basic4Cseq.buildbin-libdir && mkdir Basic4Cseq.buildbin-libdir && /Users/biocbuild/BBS/utils/build-universal.sh Basic4Cseq_1.43.0.tar.gz /Library/Frameworks/R.framework/Resources/bin/R Basic4Cseq.buildbin-libdir StartedAt: 2025-02-10 00:42:41 -0500 (Mon, 10 Feb 2025) EndedAt: 2025-02-10 00:43:33 -0500 (Mon, 10 Feb 2025) EllapsedTime: 51.9 seconds RetCode: 0 Status: OK PackageFile: Basic4Cseq_1.43.0.tgz PackageFileSize: 777.6 KiB