Package: Basic4Cseq Version: 1.43.0 Command: /Library/Frameworks/R.framework/Resources/bin/R CMD build --keep-empty-dirs --no-resave-data Basic4Cseq StartedAt: 2025-02-09 15:57:37 -0500 (Sun, 09 Feb 2025) EndedAt: 2025-02-09 15:58:40 -0500 (Sun, 09 Feb 2025) EllapsedTime: 63.1 seconds RetCode: 0 Status: OK PackageFile: Basic4Cseq_1.43.0.tar.gz PackageFileSize: 384.7 KiB