Package: Basic4Cseq Version: 1.43.0 Command: /home/biocbuild/bbs-3.21-bioc/R/bin/R CMD build --keep-empty-dirs --no-resave-data Basic4Cseq StartedAt: 2025-02-09 16:13:53 -0500 (Sun, 09 Feb 2025) EndedAt: 2025-02-09 16:14:47 -0500 (Sun, 09 Feb 2025) EllapsedTime: 54.1 seconds RetCode: 0 Status: OK PackageFile: Basic4Cseq_1.43.0.tar.gz PackageFileSize: 384.6 KiB