Package: Basic4Cseq Version: 1.43.0 Command: rm -rf Basic4Cseq.buildbin-libdir && mkdir Basic4Cseq.buildbin-libdir && E:\biocbuild\bbs-3.21-bioc\R\bin\R.exe CMD INSTALL --build --library=Basic4Cseq.buildbin-libdir Basic4Cseq_1.43.0.tar.gz StartedAt: 2025-02-10 07:15:20 -0500 (Mon, 10 Feb 2025) EndedAt: 2025-02-10 07:16:42 -0500 (Mon, 10 Feb 2025) EllapsedTime: 82.5 seconds RetCode: 0 Status: OK PackageFile: Basic4Cseq_1.43.0.zip PackageFileSize: 782.7 KiB