Package: Basic4Cseq Version: 1.43.0 Command: chmod a+r Basic4Cseq -R && E:\biocbuild\bbs-3.21-bioc\R\bin\R.exe CMD build --keep-empty-dirs --no-resave-data Basic4Cseq StartedAt: 2025-02-09 17:20:30 -0500 (Sun, 09 Feb 2025) EndedAt: 2025-02-09 17:21:56 -0500 (Sun, 09 Feb 2025) EllapsedTime: 85.9 seconds RetCode: 0 Status: OK PackageFile: Basic4Cseq_1.43.0.tar.gz PackageFileSize: 384.9 KiB