Package: Basic4Cseq Version: 1.43.0 Command: E:\biocbuild\bbs-3.21-bioc\R\bin\R.exe CMD check --no-multiarch --install=check:Basic4Cseq.install-out.txt --library=E:\biocbuild\bbs-3.21-bioc\R\library --no-vignettes --timings Basic4Cseq_1.43.0.tar.gz StartedAt: 2025-02-09 22:47:12 -0500 (Sun, 09 Feb 2025) EndedAt: 2025-02-09 22:51:42 -0500 (Sun, 09 Feb 2025) EllapsedTime: 270.9 seconds RetCode: 0 Status: OK CheckDir: Basic4Cseq.Rcheck Warnings: 0