Package: Basic4Cseq Version: 1.43.0 Command: E:\biocbuild\bbs-3.21-bioc\R\bin\R.exe CMD INSTALL Basic4Cseq StartedAt: 2025-02-09 16:37:42 -0500 (Sun, 09 Feb 2025) EndedAt: 2025-02-09 16:38:57 -0500 (Sun, 09 Feb 2025) EllapsedTime: 74.4 seconds RetCode: 0 Status: OK