Package: BasicSTARRseq Version: 1.35.0 Command: /home/biocbuild/bbs-3.21-bioc/R/bin/R CMD build --keep-empty-dirs --no-resave-data BasicSTARRseq StartedAt: 2025-02-09 16:14:24 -0500 (Sun, 09 Feb 2025) EndedAt: 2025-02-09 16:15:01 -0500 (Sun, 09 Feb 2025) EllapsedTime: 37.1 seconds RetCode: 0 Status: OK PackageFile: BasicSTARRseq_1.35.0.tar.gz PackageFileSize: 552.4 KiB