Package: BasicSTARRseq Version: 1.35.0 Command: E:\biocbuild\bbs-3.21-bioc\R\bin\R.exe CMD check --no-multiarch --install=check:BasicSTARRseq.install-out.txt --library=E:\biocbuild\bbs-3.21-bioc\R\library --no-vignettes --timings BasicSTARRseq_1.35.0.tar.gz StartedAt: 2025-02-09 22:48:17 -0500 (Sun, 09 Feb 2025) EndedAt: 2025-02-09 22:51:36 -0500 (Sun, 09 Feb 2025) EllapsedTime: 199.4 seconds RetCode: 0 Status: OK CheckDir: BasicSTARRseq.Rcheck Warnings: 0