Package: BayesSpace Version: 1.17.0 Command: /Library/Frameworks/R.framework/Resources/bin/R CMD build --keep-empty-dirs --no-resave-data BayesSpace StartedAt: 2025-02-10 15:37:12 -0500 (Mon, 10 Feb 2025) EndedAt: 2025-02-10 15:53:39 -0500 (Mon, 10 Feb 2025) EllapsedTime: 987.2 seconds RetCode: 0 Status: OK PackageFile: BayesSpace_1.17.0.tar.gz PackageFileSize: 1.635 MiB