Package: BayesSpace Version: 1.17.0 Command: /Library/Frameworks/R.framework/Resources/bin/R CMD check --install=check:BayesSpace.install-out.txt --library=/Library/Frameworks/R.framework/Resources/library --no-vignettes --timings BayesSpace_1.17.0.tar.gz StartedAt: 2025-02-10 18:09:55 -0500 (Mon, 10 Feb 2025) EndedAt: 2025-02-10 18:11:41 -0500 (Mon, 10 Feb 2025) EllapsedTime: 106.3 seconds RetCode: 0 Status: OK CheckDir: BayesSpace.Rcheck Warnings: 0