Package: BayesSpace Version: 1.17.0 Command: /Library/Frameworks/R.framework/Resources/bin/R CMD build --keep-empty-dirs --no-resave-data BayesSpace StartedAt: 2025-02-09 15:58:19 -0500 (Sun, 09 Feb 2025) EndedAt: 2025-02-09 16:15:32 -0500 (Sun, 09 Feb 2025) EllapsedTime: 1032.2 seconds RetCode: 0 Status: OK PackageFile: BayesSpace_1.17.0.tar.gz PackageFileSize: 1.635 MiB