Package: BayesSpace Version: 1.17.0 Command: /home/biocbuild/bbs-3.21-bioc/R/bin/R CMD INSTALL BayesSpace StartedAt: 2025-02-09 15:54:30 -0500 (Sun, 09 Feb 2025) EndedAt: 2025-02-09 15:55:39 -0500 (Sun, 09 Feb 2025) EllapsedTime: 68.7 seconds RetCode: 0 Status: OK