Package: BayesSpace Version: 1.17.0 Command: rm -rf BayesSpace.buildbin-libdir && mkdir BayesSpace.buildbin-libdir && E:\biocbuild\bbs-3.21-bioc\R\bin\R.exe CMD INSTALL --build --library=BayesSpace.buildbin-libdir BayesSpace_1.17.0.tar.gz StartedAt: 2025-02-10 07:15:45 -0500 (Mon, 10 Feb 2025) EndedAt: 2025-02-10 07:17:37 -0500 (Mon, 10 Feb 2025) EllapsedTime: 111.4 seconds RetCode: 0 Status: OK PackageFile: BayesSpace_1.17.0.zip PackageFileSize: 1.667 MiB