Package: BayesSpace Version: 1.17.0 Command: chmod a+r BayesSpace -R && E:\biocbuild\bbs-3.21-bioc\R\bin\R.exe CMD build --keep-empty-dirs --no-resave-data BayesSpace StartedAt: 2025-02-09 17:21:17 -0500 (Sun, 09 Feb 2025) EndedAt: 2025-02-09 17:25:03 -0500 (Sun, 09 Feb 2025) EllapsedTime: 226.3 seconds RetCode: 0 Status: OK PackageFile: BayesSpace_1.17.0.tar.gz PackageFileSize: 1.001 MiB