Package: BeadDataPackR Version: 1.59.0 Command: /Library/Frameworks/R.framework/Resources/bin/R CMD INSTALL BeadDataPackR StartedAt: 2025-02-09 15:01:04 -0500 (Sun, 09 Feb 2025) EndedAt: 2025-02-09 15:01:08 -0500 (Sun, 09 Feb 2025) EllapsedTime: 4.4 seconds RetCode: 0 Status: OK