Package: BeadDataPackR Version: 1.59.0 Command: rm -rf BeadDataPackR.buildbin-libdir && mkdir BeadDataPackR.buildbin-libdir && /Users/biocbuild/BBS/utils/build-universal.sh BeadDataPackR_1.59.0.tar.gz /Library/Frameworks/R.framework/Resources/bin/R BeadDataPackR.buildbin-libdir StartedAt: 2025-02-05 00:29:36 -0500 (Wed, 05 Feb 2025) EndedAt: 2025-02-05 00:29:43 -0500 (Wed, 05 Feb 2025) EllapsedTime: 6.9 seconds RetCode: 0 Status: OK PackageFile: BeadDataPackR_1.59.0.tgz PackageFileSize: 284.4 KiB