Package: BgeeCall Version: 1.23.0 Command: /Library/Frameworks/R.framework/Resources/bin/R CMD build --keep-empty-dirs --no-resave-data BgeeCall StartedAt: 2025-02-12 15:58:32 -0500 (Wed, 12 Feb 2025) EndedAt: 2025-02-12 16:00:15 -0500 (Wed, 12 Feb 2025) EllapsedTime: 102.6 seconds RetCode: 0 Status: OK PackageFile: BgeeCall_1.23.0.tar.gz PackageFileSize: 5.665 MiB