Package: BgeeCall Version: 1.23.0 Command: /Library/Frameworks/R.framework/Resources/bin/R CMD check --install=check:BgeeCall.install-out.txt --library=/Library/Frameworks/R.framework/Resources/library --no-vignettes --timings BgeeCall_1.23.0.tar.gz StartedAt: 2025-02-09 19:14:51 -0500 (Sun, 09 Feb 2025) EndedAt: 2025-02-09 19:20:46 -0500 (Sun, 09 Feb 2025) EllapsedTime: 355.7 seconds RetCode: 0 Status: OK CheckDir: BgeeCall.Rcheck Warnings: 0